{"text_format":"3","workbook":"xlsx","n_sheets":2,"sheets":["list","data"],"not_rendered":{"external_links":1},"read":"whole","date_system":"1900"}

{"sheet":"list","index":0,"n_rows":28,"n_cols":12,"rows_kept":28,"merged":[[0,0,0,11]]}
["Протокол школьного этапа  олимпиады  по Праву"]
["№","Коды","Пол","Дата рождения","Участник с ОВЗ","Класс","Класс участия","Балл","Макс. Балл","Статус","Призер МЭ прошлого года","Учитель"]
[1,3,6,7,8,9,10,11,12,13,14,15]
[1,"8101",{"$f":"[1]list!F3","v":"ж"},{"$f":"[1]list!G3","v":"2009-10-06"},{"$f":"[1]list!H3","v":"нет"},{"$f":"[1]list!I3","v":8},{"$f":"[1]list!J3","v":8},{"$f":"[1]list!K3","v":70},{"$f":"[1]list!L3","v":85},{"$f":"[1]list!M3","v":"призер"},null,{"$f":"[1]list!O3","v":"Калякина Светлана Анатольевна"}]
[2,"8102",{"$f":"[1]list!F4","v":"м"},{"$f":"[1]list!G4","v":"2009-01-04"},{"$f":"[1]list!H4","v":"нет"},{"$f":"[1]list!I4","v":8},{"$f":"[1]list!J4","v":8},{"$f":"[1]list!K4","v":47},{"$f":"[1]list!L4","v":85},{"$f":"[1]list!M4","v":"участник"},null,{"$f":"[1]list!O4","v":"Калякина Светлана Анатольевна"}]
[3,"8103",{"$f":"[1]list!F5","v":"м"},{"$f":"[1]list!G5","v":"2009-06-08"},{"$f":"[1]list!H5","v":"нет"},{"$f":"[1]list!I5","v":8},{"$f":"[1]list!J5","v":8},{"$f":"[1]list!K5","v":38},{"$f":"[1]list!L5","v":85},{"$f":"[1]list!M5","v":"участник"},null,{"$f":"[1]list!O5","v":"Калякина Светлана Анатольевна"}]
[4,"8104",{"$f":"[1]list!F6","v":"м"},{"$f":"[1]list!G6","v":"2009-02-05"},{"$f":"[1]list!H6","v":"нет"},{"$f":"[1]list!I6","v":8},{"$f":"[1]list!J6","v":8},{"$f":"[1]list!K6","v":55},{"$f":"[1]list!L6","v":85},{"$f":"[1]list!M6","v":"участник"},null,{"$f":"[1]list!O6","v":"Калякина Светлана Анатольевна"}]
[5,"8105",{"$f":"[1]list!F7","v":"м"},{"$f":"[1]list!G7","v":"2009-05-11"},{"$f":"[1]list!H7","v":"нет"},{"$f":"[1]list!I7","v":8},{"$f":"[1]list!J7","v":8},{"$f":"[1]list!K7","v":39},{"$f":"[1]list!L7","v":85},{"$f":"[1]list!M7","v":"участник"},null,{"$f":"[1]list!O7","v":"Калякина Светлана Анатольевна"}]
[6,"8201",{"$f":"[1]list!F8","v":"ж"},{"$f":"[1]list!G8","v":"2009-02-02"},{"$f":"[1]list!H8","v":"нет"},{"$f":"[1]list!I8","v":8},{"$f":"[1]list!J8","v":8},{"$f":"[1]list!K8","v":30},{"$f":"[1]list!L8","v":85},{"$f":"[1]list!M8","v":"участник"},null,{"$f":"[1]list!O8","v":"Калякина Светлана Анатольевна"}]
[7,"8202",{"$f":"[1]list!F9","v":"ж"},{"$f":"[1]list!G9","v":"2009-10-31"},{"$f":"[1]list!H9","v":"нет"},{"$f":"[1]list!I9","v":8},{"$f":"[1]list!J9","v":8},{"$f":"[1]list!K9","v":73},{"$f":"[1]list!L9","v":85},{"$f":"[1]list!M9","v":"призер"},null,{"$f":"[1]list!O9","v":"Калякина Светлана Анатольевна"}]
[8,"8203",{"$f":"[1]list!F10","v":"м"},{"$f":"[1]list!G10","v":"2009-06-29"},{"$f":"[1]list!H10","v":"нет"},{"$f":"[1]list!I10","v":8},{"$f":"[1]list!J10","v":8},{"$f":"[1]list!K10","v":41},{"$f":"[1]list!L10","v":85},{"$f":"[1]list!M10","v":"участник"},null,{"$f":"[1]list!O10","v":"Калякина Светлана Анатольевна"}]
[9,"8204",{"$f":"[1]list!F11","v":"м"},{"$f":"[1]list!G11","v":"2009-02-07"},{"$f":"[1]list!H11","v":"нет"},{"$f":"[1]list!I11","v":8},{"$f":"[1]list!J11","v":8},{"$f":"[1]list!K11","v":33},{"$f":"[1]list!L11","v":85},{"$f":"[1]list!M11","v":"участник"},null,{"$f":"[1]list!O11","v":"Калякина Светлана Анатольевна"}]
[10,"8205",{"$f":"[1]list!F12","v":"м"},{"$f":"[1]list!G12","v":"2009-01-29"},{"$f":"[1]list!H12","v":"нет"},{"$f":"[1]list!I12","v":8},{"$f":"[1]list!J12","v":8},{"$f":"[1]list!K12","v":60},{"$f":"[1]list!L12","v":85},{"$f":"[1]list!M12","v":"участник"},null,{"$f":"[1]list!O12","v":"Калякина Светлана Анатольевна"}]
[11,"8301",{"$f":"[1]list!F13","v":"м"},{"$f":"[1]list!G13","v":"2009-03-17"},{"$f":"[1]list!H13","v":"нет"},{"$f":"[1]list!I13","v":8},{"$f":"[1]list!J13","v":8},{"$f":"[1]list!K13","v":31},{"$f":"[1]list!L13","v":85},{"$f":"[1]list!M13","v":"участник"},null,{"$f":"[1]list!O13","v":"Калякина Светлана Анатольевна"}]
[12,"8302",{"$f":"[1]list!F14","v":"ж"},{"$f":"[1]list!G14","v":"2008-12-18"},{"$f":"[1]list!H14","v":"нет"},{"$f":"[1]list!I14","v":8},{"$f":"[1]list!J14","v":8},{"$f":"[1]list!K14","v":80},{"$f":"[1]list!L14","v":85},{"$f":"[1]list!M14","v":"победитель"},null,{"$f":"[1]list!O14","v":"Калякина Светлана Анатольевна"}]
[13,"8303",{"$f":"[1]list!F15","v":"ж"},{"$f":"[1]list!G15","v":"2009-02-21"},{"$f":"[1]list!H15","v":"нет"},{"$f":"[1]list!I15","v":8},{"$f":"[1]list!J15","v":8},{"$f":"[1]list!K15","v":56},{"$f":"[1]list!L15","v":85},{"$f":"[1]list!M15","v":"участник"},null,{"$f":"[1]list!O15","v":"Калякина Светлана Анатольевна"}]
[14,"8304",{"$f":"[1]list!F16","v":"м"},{"$f":"[1]list!G16","v":"2009-11-16"},{"$f":"[1]list!H16","v":"нет"},{"$f":"[1]list!I16","v":8},{"$f":"[1]list!J16","v":8},{"$f":"[1]list!K16","v":42},{"$f":"[1]list!L16","v":85},{"$f":"[1]list!M16","v":"участник"},null,{"$f":"[1]list!O16","v":"Калякина Светлана Анатольевна"}]
[15,"8305",{"$f":"[1]list!F17","v":"ж"},{"$f":"[1]list!G17","v":"2009-07-20"},{"$f":"[1]list!H17","v":"нет"},{"$f":"[1]list!I17","v":8},{"$f":"[1]list!J17","v":8},{"$f":"[1]list!K17","v":44},{"$f":"[1]list!L17","v":85},{"$f":"[1]list!M17","v":"участник"},null,{"$f":"[1]list!O17","v":"Калякина Светлана Анатольевна"}]
[16,"9101",{"$f":"[1]list!F18","v":"ж"},{"$f":"[1]list!G18","v":"2008-06-24"},{"$f":"[1]list!H18","v":"нет"},{"$f":"[1]list!I18","v":9},{"$f":"[1]list!J18","v":9},{"$f":"[1]list!K18","v":35},{"$f":"[1]list!L18","v":80},{"$f":"[1]list!M18","v":"участник"},null,{"$f":"[1]list!O18","v":"Калякина Светлана Анатольевна"}]
[17,"9102",{"$f":"[1]list!F19","v":"ж"},{"$f":"[1]list!G19","v":"2008-01-26"},{"$f":"[1]list!H19","v":"нет"},{"$f":"[1]list!I19","v":9},{"$f":"[1]list!J19","v":9},{"$f":"[1]list!K19","v":76},{"$f":"[1]list!L19","v":80},{"$f":"[1]list!M19","v":"победитель"},null,{"$f":"[1]list!O19","v":"Калякина Светлана Анатольевна"}]
[18,"9103",{"$f":"[1]list!F20","v":"м"},{"$f":"[1]list!G20","v":"2008-10-05"},{"$f":"[1]list!H20","v":"нет"},{"$f":"[1]list!I20","v":9},{"$f":"[1]list!J20","v":9},{"$f":"[1]list!K20","v":43},{"$f":"[1]list!L20","v":80},{"$f":"[1]list!M20","v":"участник"},null,{"$f":"[1]list!O20","v":"Калякина Светлана Анатольевна"}]
[19,"9104",{"$f":"[1]list!F21","v":"м"},{"$f":"[1]list!G21","v":"2008-02-02"},{"$f":"[1]list!H21","v":"нет"},{"$f":"[1]list!I21","v":9},{"$f":"[1]list!J21","v":9},{"$f":"[1]list!K21","v":55},{"$f":"[1]list!L21","v":80},{"$f":"[1]list!M21","v":"участник"},null,{"$f":"[1]list!O21","v":"Калякина Светлана Анатольевна"}]
[20,"9105",{"$f":"[1]list!F22","v":"ж"},{"$f":"[1]list!G22","v":"2008-02-12"},{"$f":"[1]list!H22","v":"нет"},{"$f":"[1]list!I22","v":9},{"$f":"[1]list!J22","v":9},{"$f":"[1]list!K22","v":43},{"$f":"[1]list!L22","v":80},{"$f":"[1]list!M22","v":"участник"},null,{"$f":"[1]list!O22","v":"Калякина Светлана Анатольевна"}]
[21,"9201",{"$f":"[1]list!F23","v":"ж"},{"$f":"[1]list!G23","v":"2008-06-23"},{"$f":"[1]list!H23","v":"нет"},{"$f":"[1]list!I23","v":9},{"$f":"[1]list!J23","v":9},{"$f":"[1]list!K23","v":68},{"$f":"[1]list!L23","v":80},{"$f":"[1]list!M23","v":"призер"},null,{"$f":"[1]list!O23","v":"Калякина Светлана Анатольевна"}]
[22,"9202",{"$f":"[1]list!F24","v":"ж"},{"$f":"[1]list!G24","v":"2008-04-30"},{"$f":"[1]list!H24","v":"нет"},{"$f":"[1]list!I24","v":9},{"$f":"[1]list!J24","v":9},{"$f":"[1]list!K24","v":43},{"$f":"[1]list!L24","v":80},{"$f":"[1]list!M24","v":"участник"},null,{"$f":"[1]list!O24","v":"Калякина Светлана Анатольевна"}]
[23,"9203",{"$f":"[1]list!F25","v":"м"},{"$f":"[1]list!G25","v":"2007-11-16"},{"$f":"[1]list!H25","v":"нет"},{"$f":"[1]list!I25","v":9},{"$f":"[1]list!J25","v":9},{"$f":"[1]list!K25","v":48},{"$f":"[1]list!L25","v":80},{"$f":"[1]list!M25","v":"участник"},null,{"$f":"[1]list!O25","v":"Калякина Светлана Анатольевна"}]
[24,"9204",{"$f":"[1]list!F26","v":"м"},{"$f":"[1]list!G26","v":"2008-12-24"},{"$f":"[1]list!H26","v":"нет"},{"$f":"[1]list!I26","v":9},{"$f":"[1]list!J26","v":9},{"$f":"[1]list!K26","v":33},{"$f":"[1]list!L26","v":80},{"$f":"[1]list!M26","v":"участник"},null,{"$f":"[1]list!O26","v":"Калякина Светлана Анатольевна"}]
[25,"9205",{"$f":"[1]list!F27","v":"м"},{"$f":"[1]list!G27","v":"2008-09-04"},{"$f":"[1]list!H27","v":"нет"},{"$f":"[1]list!I27","v":9},{"$f":"[1]list!J27","v":9},{"$f":"[1]list!K27","v":69},{"$f":"[1]list!L27","v":80},{"$f":"[1]list!M27","v":"призер"},null,{"$f":"[1]list!O27","v":"Калякина Светлана Анатольевна"}]

{"sheet":"data","index":1,"n_rows":25,"n_cols":3,"rows_kept":25,"hidden":true}
[]
["Техника, технология и техническое творчество .  Ручная обработка древесины"]
["Техника, технология и техническое творчество .  Ручная обработка металла"]
["Техника, технология и техническое творчество .  Механическая обработка древесины"]
["Техника, технология и техническое творчество .  Механическая обработка металла"]
["Техника, технология и техническое творчество .  Электротехника"]
["Техника, технология и техническое творчество .  Робототехника"]
["Техника, технология и техническое творчество .  3d - моделирование и печать"]
["Техника, технология и техническое творчество .  Обработка материалов на лазерно-гравировальной машине"]
["Техника, технология и техническое творчество .  Промышленный дизайн"]
["Культура дома, дизайн и технологии .  Обработка швейного изделия или узла + моделирование швейных изделий"]
["Культура дома, дизайн и технологии .  Обработка швейного изделия или узла + моделирование швейных изделий с использованием графических редакторов"]
["Культура дома, дизайн и технологии .  Обработка швейного изделия или узла на швейно-вышивальном оборудовании + моделирование швейных изделий"]
["Культура дома, дизайн и технологии .  Обработка швейного изделия или узла на швейно-вышивальном оборудовании + моделирование швейных изделий с использованием графических редакторов"]
["Культура дома, дизайн и технологии .  Робототехника"]
["Культура дома, дизайн и технологии .  3d - моделирование и печать"]
["Культура дома, дизайн и технологии .  Обработка материалов на лазерно-гравировальной машине"]
["Культура дома, дизайн и технологии .  Промышленный дизайн"]
["Роботехника .  "]
["Информационная безопасность ."]
[]
[]
["участник"]
["призер",null,"да"]
["победитель"]